BEGIN:VCALENDAR
VERSION:2.0
PRODID:-//Things to do in Paris - ECPv4.7.0.1//NONSGML v1.0//EN
CALSCALE:GREGORIAN
METHOD:PUBLISH
X-WR-CALNAME:Things to do in Paris
X-ORIGINAL-URL:https://things-to-do.com/paris
X-WR-CALDESC:Events for Things to do in Paris
BEGIN:VEVENT
DTSTART;VALUE=DATE:20170901
DTEND;VALUE=DATE:20170915
DTSTAMP:20260424T154301
CREATED:20170901T130543Z
LAST-MODIFIED:20170904T113414Z
UID:258-1504224000-1505433599@things-to-do.com
SUMMARY:La Nuit aux Invalides
DESCRIPTION:
URL:https://things-to-do.com/paris/event/la-nuit-aux-invalides/
CATEGORIES:Cultural
ATTACH;FMTTYPE=image/jpeg:https://things-to-do.com/paris/wp-content/uploads/2017/09/La-nuit-aux-invalides.jpg
END:VEVENT
BEGIN:VEVENT
DTSTART;VALUE=DATE:20170901
DTEND;VALUE=DATE:20170909
DTSTAMP:20260424T154301
CREATED:20170901T131344Z
LAST-MODIFIED:20170904T113547Z
UID:264-1504224000-1504915199@things-to-do.com
SUMMARY:Plage de Glazart
DESCRIPTION:
URL:https://things-to-do.com/paris/event/plage-de-glazart/
CATEGORIES:Cultural
ATTACH;FMTTYPE=image/jpeg:https://things-to-do.com/paris/wp-content/uploads/2017/09/La-pLage-de-Glazart.jpg
END:VEVENT
BEGIN:VEVENT
DTSTART;VALUE=DATE:20170901
DTEND;VALUE=DATE:20170920
DTSTAMP:20260424T154301
CREATED:20170901T132118Z
LAST-MODIFIED:20170904T113321Z
UID:267-1504224000-1505865599@things-to-do.com
SUMMARY:Japanese landscape : from Hokusai to Hasui
DESCRIPTION:
URL:https://things-to-do.com/paris/event/japanese-landscape-from-hokusai-to-hasui/
CATEGORIES:Cultural
ATTACH;FMTTYPE=image/jpeg:https://things-to-do.com/paris/wp-content/uploads/2017/09/Hokusai-Paris.jpg
END:VEVENT
END:VCALENDAR