BEGIN:VCALENDAR
VERSION:2.0
PRODID:-//Things to do in Paris - ECPv4.7.0.1//NONSGML v1.0//EN
CALSCALE:GREGORIAN
METHOD:PUBLISH
X-WR-CALNAME:Things to do in Paris
X-ORIGINAL-URL:https://things-to-do.com/paris
X-WR-CALDESC:Events for Things to do in Paris
BEGIN:VEVENT
DTSTART;VALUE=DATE:20170412
DTEND;VALUE=DATE:20180115
DTSTAMP:20260425T212125
CREATED:20171121T163126Z
LAST-MODIFIED:20180103T143054Z
UID:4729-1491955200-1515974399@things-to-do.com
SUMMARY:Montmartre\, a film set
DESCRIPTION:
URL:https://things-to-do.com/paris/event/montmartre-a-film-set/
LOCATION:Musée de Montmartre\, 12\, rue Cortot\, Paris\, 75018
CATEGORIES:exhibitions
ATTACH;FMTTYPE=image/jpeg:https://things-to-do.com/paris/wp-content/uploads/2017/11/Montmartre-décor-de-cinéma.jpg
END:VEVENT
BEGIN:VEVENT
DTSTART;VALUE=DATE:20170705
DTEND;VALUE=DATE:20180108
DTSTAMP:20260425T212125
CREATED:20171024T151545Z
LAST-MODIFIED:20171024T152310Z
UID:3682-1499212800-1515369599@things-to-do.com
SUMMARY:CHRISTIAN DIOR\, COUTURIER DU RÊVE
DESCRIPTION:
URL:https://things-to-do.com/paris/event/christian-dior-couturier-du-reve/
LOCATION:Les arts décoratifs\, Musée des Arts décoratifs 107\, rue de Rivoli\, Paris\, 75001\, France
CATEGORIES:exhibitions
ATTACH;FMTTYPE=image/jpeg:https://things-to-do.com/paris/wp-content/uploads/2017/10/EVENT-PARIS-DIOR-Arts-decoratifs-museum.jpg
END:VEVENT
BEGIN:VEVENT
DTSTART;TZID=Europe/Paris:20170830T090000
DTEND;TZID=Europe/Paris:20171022T180000
DTSTAMP:20260425T212125
CREATED:20170830T101353Z
LAST-MODIFIED:20171025T122520Z
UID:2972-1504083600-1508695200@things-to-do.com
SUMMARY:Kiefer-Rodin
DESCRIPTION:To mark the centenary of the death of Auguste Rodin\, the museum cooperates with contemporary artists and especially Anselm Kiefer. This exhibition demonstrates the unusual convergence of two giants\, shaped with freedom and liberated from all artistic contingencies. \n
URL:https://things-to-do.com/paris/event/kiefer-rodin/
CATEGORIES:exhibitions
ATTACH;FMTTYPE=image/jpeg:https://things-to-do.com/paris/wp-content/uploads/2017/08/expo_kiefer_rodin_jm065.jpg
END:VEVENT
BEGIN:VEVENT
DTSTART;VALUE=DATE:20170907
DTEND;VALUE=DATE:20180801
DTSTAMP:20260425T212125
CREATED:20180123T153056Z
LAST-MODIFIED:20180123T153111Z
UID:5546-1504742400-1533081599@things-to-do.com
SUMMARY:Caro/Jeunet
DESCRIPTION:
URL:https://things-to-do.com/paris/event/caro-jeunet/
LOCATION:Halle Saint Pierre\, 2 rue Ronsard\, Paris\, 75018\, France
CATEGORIES:exhibitions
ATTACH;FMTTYPE=image/jpeg:https://things-to-do.com/paris/wp-content/uploads/2018/01/Event-Paris-Exhibition-Caro-Jeunet.jpg
END:VEVENT
BEGIN:VEVENT
DTSTART;TZID=Europe/Paris:20170915T100000
DTEND;TZID=Europe/Paris:20180408T180000
DTSTAMP:20260425T212125
CREATED:20180202T154835Z
LAST-MODIFIED:20180131T155252Z
UID:5222-1505469600-1523210400@things-to-do.com
SUMMARY:The Art of Pastel from Degas to Redon
DESCRIPTION:  \n\n\n\n
URL:https://things-to-do.com/paris/event/art-pastel-degas-redon/
CATEGORIES:exhibitions
ATTACH;FMTTYPE=image/jpeg:https://things-to-do.com/paris/wp-content/uploads/2017/12/Art-du-Pastel-Degas-Redon.jpg
END:VEVENT
BEGIN:VEVENT
DTSTART;TZID=Europe/Paris:20170921T100000
DTEND;TZID=Europe/Paris:20180129T200000
DTSTAMP:20260425T212125
CREATED:20171121T161120Z
LAST-MODIFIED:20171122T083659Z
UID:4720-1505988000-1517256000@things-to-do.com
SUMMARY:Irving Penn
DESCRIPTION:  \n\n
URL:https://things-to-do.com/paris/event/__trashed/
LOCATION:Le Grand Palais\, 3\, avenue du général Eisenhower\, Paris\, 75008
CATEGORIES:exhibitions
ATTACH;FMTTYPE=image/jpeg:https://things-to-do.com/paris/wp-content/uploads/2017/11/irving-penn-grand-palais.jpg
END:VEVENT
BEGIN:VEVENT
DTSTART;VALUE=DATE:20170922
DTEND;VALUE=DATE:20180122
DTSTAMP:20260425T212125
CREATED:20171024T151139Z
LAST-MODIFIED:20171024T152137Z
UID:3678-1506038400-1516579199@things-to-do.com
SUMMARY:Pop Art - Icons that matter
DESCRIPTION:
URL:https://things-to-do.com/paris/event/exposition-pop-art-icons-matter-collection-du-whitney-museum-american-art/
LOCATION:Musée Maillol\, 59-61 Rue de Grenelle\,\, Paris\, 75007\, France
CATEGORIES:exhibitions
ATTACH;FMTTYPE=image/jpeg:https://things-to-do.com/paris/wp-content/uploads/2017/10/event-paris-pop-art-maillol-museum.jpg
END:VEVENT
BEGIN:VEVENT
DTSTART;TZID=Europe/Paris:20171004T103000
DTEND;TZID=Europe/Paris:20180114T190000
DTSTAMP:20260425T212125
CREATED:20171221T100357Z
LAST-MODIFIED:20180103T142532Z
UID:5228-1507113000-1515956400@things-to-do.com
SUMMARY:Rubens\, Royal Portraits
DESCRIPTION:  \n\n\n
URL:https://things-to-do.com/paris/event/rubens-royal-portraits/
CATEGORIES:exhibitions
ATTACH;FMTTYPE=image/png:https://things-to-do.com/paris/wp-content/uploads/2017/12/Rubens-Portraits-princiers.png
END:VEVENT
BEGIN:VEVENT
DTSTART;TZID=Europe/Paris:20171004T110000
DTEND;TZID=Europe/Paris:20180129T210000
DTSTAMP:20260425T212125
CREATED:20171129T162017Z
LAST-MODIFIED:20180103T142556Z
UID:5024-1507114800-1517259600@things-to-do.com
SUMMARY:André Derain - the radical decade
DESCRIPTION:  \n\n\n\n
URL:https://things-to-do.com/paris/event/andre-derain-radical-decade/
CATEGORIES:exhibitions
ATTACH;FMTTYPE=image/jpeg:https://things-to-do.com/paris/wp-content/uploads/2017/11/Derain.jpg
END:VEVENT
BEGIN:VEVENT
DTSTART;TZID=Europe/Paris:20171004T120000
DTEND;TZID=Europe/Paris:20180304T190000
DTSTAMP:20260425T212125
CREATED:20171121T163411Z
LAST-MODIFIED:20171122T083554Z
UID:4733-1507118400-1520190000@things-to-do.com
SUMMARY:Gosciny and the cinema
DESCRIPTION:  \n\n\n\n\n
URL:https://things-to-do.com/paris/event/gosciny-and-the-cinema/
LOCATION:Cinémathèque Française\, 51\, rue de Bercy\, Paris\, 75012
CATEGORIES:exhibitions
ATTACH;FMTTYPE=image/jpeg:https://things-to-do.com/paris/wp-content/uploads/2017/11/gosciny-cinémathèqye.jpg
END:VEVENT
BEGIN:VEVENT
DTSTART;TZID=Europe/Paris:20171010T103000
DTEND;TZID=Europe/Paris:20180211T180000
DTSTAMP:20260425T212125
CREATED:20171221T103616Z
LAST-MODIFIED:20180103T142539Z
UID:5239-1507631400-1518372000@things-to-do.com
SUMMARY:Picasso 1932\, an erotic year
DESCRIPTION:  \n\n\n\n
URL:https://things-to-do.com/paris/event/picasso-1932-erotic-year/
CATEGORIES:exhibitions
ATTACH;FMTTYPE=image/jpeg:https://things-to-do.com/paris/wp-content/uploads/2017/12/Picasso-1932.jpg
END:VEVENT
BEGIN:VEVENT
DTSTART;VALUE=DATE:20171011
DTEND;VALUE=DATE:20180306
DTSTAMP:20260425T212125
CREATED:20171024T161308Z
LAST-MODIFIED:20171024T161406Z
UID:3694-1507680000-1520294399@things-to-do.com
SUMMARY:Being Modern : MOMA in Paris
DESCRIPTION:
URL:https://things-to-do.com/paris/event/modern-moma-paris/
LOCATION:Fondation Louis Vuitton\, 8 Avenue du Mahatma Gandhi\,\, Paris\, 75116
CATEGORIES:exhibitions
ATTACH;FMTTYPE=image/jpeg:https://things-to-do.com/paris/wp-content/uploads/2017/10/EVENT-PARIS-LOUIS-VUITTON-FOUNDATION-MOMA-IN-PARIS.jpg
END:VEVENT
BEGIN:VEVENT
DTSTART;TZID=Europe/Paris:20171011T100000
DTEND;TZID=Europe/Paris:20180111T200000
DTSTAMP:20260425T212125
CREATED:20171114T110810Z
LAST-MODIFIED:20171122T100109Z
UID:4648-1507716000-1515700800@things-to-do.com
SUMMARY:Gauguin l'alchimiste
DESCRIPTION:  \n\n\n
URL:https://things-to-do.com/paris/event/gauguin-lalchimiste/
LOCATION:Le Grand Palais\, 3\, avenue du général Eisenhower\, Paris\, 75008
CATEGORIES:exhibitions
ATTACH;FMTTYPE=image/jpeg:https://things-to-do.com/paris/wp-content/uploads/2017/11/expo-gauguin-1.jpg
END:VEVENT
END:VCALENDAR